BEGIN:VCALENDAR
VERSION:2.0
PRODID:-//Kintsugi Arte Terapia - ECPv6.15.20//NONSGML v1.0//EN
CALSCALE:GREGORIAN
METHOD:PUBLISH
X-ORIGINAL-URL:https://kintsugiarteterapia.com
X-WR-CALDESC:Eventi per Kintsugi Arte Terapia
REFRESH-INTERVAL;VALUE=DURATION:PT1H
X-Robots-Tag:noindex
X-PUBLISHED-TTL:PT1H
BEGIN:VTIMEZONE
TZID:UTC
BEGIN:STANDARD
TZOFFSETFROM:+0000
TZOFFSETTO:+0000
TZNAME:UTC
DTSTART:20210101T000000
END:STANDARD
END:VTIMEZONE
BEGIN:VEVENT
DTSTART;TZID=UTC:20220817T110000
DTEND;TZID=UTC:20220817T110000
DTSTAMP:20260422T100954
CREATED:20191104T091855Z
LAST-MODIFIED:20221103T134618Z
UID:543-1660734000-1660734000@kintsugiarteterapia.com
SUMMARY:Percorsi individuali di Arte Terapia per adulti
DESCRIPTION:I percorsi di Arte Terapia individuali sono diversi per ogni persona a seconda delle sue esigenze. \nDurante la prima consulenza e i primi incontri cercheremo di capire esperienze e obiettivi su cui focalizzeremo il percorso. Esploreremo il desiderio di utilizzare materiali artistici per provare a rispondere a queste domande. \nSi può intraprendere un percorso di arte terapia anche se non si presentano patologie e/o disagi fisici\, psicologici ed emotivi. \nCerte persone approcciano l’arte terapia perchè si sentono bloccati\, persi\, perchè vogliono conoscere e capire se stessi in un modo profondo attraverso l’uso dei materiali artistici. Altre problematiche che si possono affrontare con l’arte terapia sono: \n\nDisturbi di ansia\, depressione\, stress\nDisturbi di personalità\nPsicosi\nSofferenza di abusi o traumi\nDifficoltà di integrazione o sociali\n\nLe sessioni individuali durano solitamente 50 minuti e sono svolte settimanalmente  preferibilmente sempre allo stesso giorno e alla stessa ora. Nello spazio protetto e non giudicante della stanza dell’arte terapia ci si può dedicare ad una o più difficoltà che si sta vivendo aprendo un dialogo attraverso l’espressività artistica. Con il supporto dell’arte terapeuta si possono riscoprire le proprie risorse e potenzialità per migliorare la propria qualità di vita e/o acquisendo nuove strategie per raggiungere obiettivi specifici. \n  \n 
URL:https://kintsugiarteterapia.com/event/meditation-class/
LOCATION:Centro Nova Psiche\, Via Cavalieri di Vittorio Veneto 5\, Bussolengo\, VR\, 37012\, Italia
CATEGORIES:Arte Terapia I
ATTACH;FMTTYPE=image/jpeg:https://kintsugiarteterapia.com/wp-content/uploads/2022/08/studio-art-therapy-piccola.jpg
END:VEVENT
END:VCALENDAR